BEGIN:VCALENDAR
VERSION:2.0
PRODID:-//wp-events-plugin.com//7.2.3.1//EN
TZID:Europe/Berlin
X-WR-TIMEZONE:Europe/Berlin
BEGIN:VEVENT
UID:103@kolpingjugend-ms.de
DTSTART;TZID=Europe/Berlin:20180605T180000
DTEND;TZID=Europe/Berlin:20180605T230000
DTSTAMP:20180522T112823Z
URL:https://kolpingjugend-ms.de/veranstaltungen/was-passiert-eigentlich-in
 -der-dl-offene-dl-sitzung/
SUMMARY:Was passiert eigentlich in der DL? - Offene DL-Sitzung
DESCRIPTION:Was macht die Diözesanleitung (DL) eigentlich? Welche Themen b
 eschäftigen die DL momentan? Wie werden Beschlüsse gefasst? Wer diese un
 d weitere Fragen schon immer mal beantwortet haben wollte\, hat jetzt die 
 Gelegenheit!\n\nAm Dienstag\, 5. Juni 2018 führen wir eine offene DL-Sitz
 ung durch. Das heißt\, jede und jeder Interessierte kann einfach zur regu
 lären Sitzung dazukommen. Unterschiedlichste Themen geben die Möglichkei
 t einen persönlichen Eindruck in die Arbeit der Diözesanleitung zu bekom
 men.\n\nWir starten - wie in jeder Sitzung der Diözesanleitung - mit eine
 m Abendessen in lockerer Runde um 18:00 Uhr. Ab 18:30 Uhr beginnt die regu
 läre Sitzung.\n\nAuf der Tagesordnung werden unterschiedlichste aktuelle 
 Themen des Verbandes stehen. Bei Interesse kannst du dich gerne einbringen
 !\n\nDamit wir einen passenden Sitzungsraum vorhalten können und wir dich
  beim Abendessen einplanen können\, bitten wir dich um eine kurze Anmeldu
 ng im Jugendreferat. Melde dich hierzu bis zum 4. Juni 2018\, per E-Mail u
 nter info@kolpingjugend-ms.de oder unter 02541 / 803-471 an.\n\nMehr Infor
 mationen\n\n 	Veranstaltung bei Facebook\nLade gerne auch weitere Personen
  zur Sitzung ein bzw. bring Freund_innen und andere Jugendliche aus deiner
  Ortsgruppe mit.\n 	Ort und Anfahrt\nWir treffen uns im Haus der Verbände
  in Münster. Am Gebäude gibt es zwei Kolping-Parkplätze. Solltet ihr ei
 nen der anderen Parkplätze in Anspruch nehmen\, bitten wir euch\, einen Z
 ettel hinter die Windschutzscheibe zu legen\, auf dem ihr euren Namen und 
 eure Handynummer sowie den Vermerk "Kolpingjugend" eintragt. Alternativ si
 nd es vom Hauptbahnhof Münster aus nur wenige Gehminuten bis zum Haus der
  Verbände in der Schillerstraße.\n
ATTACH;FMTTYPE=image/jpeg:https://kolpingjugend-ms.de/dat/beitragsbild_off
 enedl-1.jpg
CATEGORIES:Diözesanleitung,Sitzungen
LOCATION:KOLPING im Haus der Verbände\, Schillerstraße 44a\, Münster\, N
 RW\, 48155\, Deutschland
GEO:51.9562693;7.640570700000012
X-APPLE-STRUCTURED-LOCATION;VALUE=URI;X-ADDRESS=Schillerstraße 44a\, Müns
 ter\, NRW\, 48155\, Deutschland;X-APPLE-RADIUS=100;X-TITLE=KOLPING im Haus
  der Verbände:geo:51.9562693,7.640570700000012
END:VEVENT
BEGIN:VTIMEZONE
TZID:Europe/Berlin
X-LIC-LOCATION:Europe/Berlin
BEGIN:DAYLIGHT
DTSTART:20180325T030000
TZOFFSETFROM:+0100
TZOFFSETTO:+0200
TZNAME:CEST
END:DAYLIGHT
END:VTIMEZONE
END:VCALENDAR