BEGIN:VCALENDAR
VERSION:2.0
PRODID:-//wp-events-plugin.com//7.2.3.1//EN
TZID:Europe/Berlin
X-WR-TIMEZONE:Europe/Berlin
BEGIN:VEVENT
UID:136@kolpingjugend-ms.de
DTSTART;TZID=Europe/Berlin:20201017T103000
DTEND;TZID=Europe/Berlin:20201017T150000
DTSTAMP:20201006T133406Z
URL:https://kolpingjugend-ms.de/veranstaltungen/wandern-und-wundern-2/
SUMMARY:Wandern und Wundern #2
DESCRIPTION:Was haben ein Biber\, das Modegetränk Gin\, unser Diözesanvor
 sitzender Harold Ries und Heidekraut gemeinsam? Sie alle lassen sich im He
 idemoor bei Niederkrüchten finden und sind Teil der zweiten Edition der V
 eranstaltungsreihe „Wandern und Wundern“ für junge Erwachsene ab 18 J
 ahren.\n\nHarold ist Förster und kennt das Heidemoor am Niederrhein wie s
 eine Westentasche. Er nimmt uns am 17.10.2020 bei einer etwa 12 km langen 
 Wanderung durch das größte Naturschutzgebiet Nordrhein-Westfales mit auf
  die Spuren des Bibers und zeigt uns dessen Einfluss auf die Natur. Weiter
 e Themen rund um Wald und Wild werden ebenfalls angesprochen.\n\nTreffpunk
 t ist der Parkplatz vor dem Rathaus Niederkrüchten im Ortsteil Elmpt (Lau
 rentiusstraße 19\, 41372 Niederkrüchten). Vom Parkplatz am Rathaus aus f
 ahren wir gemeinsam zu einem Wanderparkplatz im Wald und begeben uns auf e
 ine etwa 4-stündige Wanderung.\n\nFestes Schuhwerk und wetterfeste Kleidu
 ng sind zu empfehlen. Unterwegs werden wir Pausen im Grünen machen\, also
  packe dir ausreichend Getränke und Proviant ein. Ein Fernglas eignet sic
 h gut für Beobachtungen.\n\nDu hast Interesse? Dann melde dich bis zum 15
 .10.2020 im Jugendreferat (spahlholz@kolping-ms.de / 02541-803 474 / 0174-
 1615080) kurz und formlos mit deinen Kontaktdaten an\, damit wir beim Bild
 en von Fahrgemeinschaften unterstützen und ggf. kurzfristige Absprachen t
 reffen können.\n\nFalls du noch Fragen hast\, wende dich gerne an uns!\n\
 nText: Christina Huster\; Bild: www.pixabay.com / Peter H
ATTACH;FMTTYPE=image/jpeg:https://kolpingjugend-ms.de/dat/heather-2529435_
 1920.jpg
CATEGORIES:Junge Erwachsene
LOCATION:Rathaus Niederkrüchten\, Laurentiusstraße 19\, Niederkrüchten\,
  Nordrhein-Westfalen\, 41372 \, Deutschland
X-APPLE-STRUCTURED-LOCATION;VALUE=URI;X-ADDRESS=Laurentiusstraße 19\, Nied
 erkrüchten\, Nordrhein-Westfalen\, 41372 \, Deutschland;X-APPLE-RADIUS=10
 0;X-TITLE=Rathaus Niederkrüchten:geo:0,0
END:VEVENT
BEGIN:VTIMEZONE
TZID:Europe/Berlin
X-LIC-LOCATION:Europe/Berlin
BEGIN:DAYLIGHT
DTSTART:20200329T030000
TZOFFSETFROM:+0100
TZOFFSETTO:+0200
TZNAME:CEST
END:DAYLIGHT
END:VTIMEZONE
END:VCALENDAR