BEGIN:VCALENDAR
VERSION:2.0
PRODID:-//wp-events-plugin.com//7.2.3.1//EN
TZID:Europe/Berlin
X-WR-TIMEZONE:Europe/Berlin
BEGIN:VEVENT
UID:96@kolpingjugend-ms.de
DTSTART;TZID=Europe/Berlin;VALUE=DATE:20180928
DTEND;TZID=Europe/Berlin;VALUE=DATE:20181001
DTSTAMP:20180910T065510Z
URL:https://kolpingjugend-ms.de/veranstaltungen/sternenklar2018/
SUMMARY:Sternenklar - Das Jugendevent der Kolpingjugend in Frankfurt am Mai
 n
DESCRIPTION:"Sternenklar - Du baust die Zukunft" ist das Motto des diesjäh
 rigen Jugendevents der Kolpingjugend im Kolpingwerk Deutschland. Unter den
  Themenschwerpunkten "Glaube"\, "Politik" und "Verband" erwartet euch vom
  28. bis 30. September 2018 ein vielseitiges Programmangebot. Neben einem 
 bunten Bühnenprogramm\, einer Party und einem gemeinsamen Abschlussgottes
 dienst bleibt Zeit\, um mit jungen Menschen aus ganz Deutschland in Kontak
 t zu kommen und sich zu vernetzen. Seid dabei und meldet euch ab sofort zu
  den attraktiven Konditionen des Diözesanverbands Münster an!\nDas Angeb
 ot\nFür 55\,00 Euro geht es für ein Wochenende zu Sternenklar nach Frank
 furt am Main! Im Preis sind folgende Leistungen inklusive:\n\n 	Teilnahmeb
 eitrag sowie Eintritt zu allen Veranstaltungen von Sternenklar\n 	zwei Üb
 ernachtungen in einer Unterkunft mit Frühstück\n 	Lunchpaket am Sonntag\
 n 	ÖPNV-Ticket\n 	Gemeinsames Erkennungszeichen\n 	Hin- und Rückreise mi
 t Reisebussen\, freitags Abfahrt aus verschiedenen Städten im Münsterlan
 d und sonntags Rückkehr in diese Städte (Nähere Informationen zu den ge
 nauen Abfahrtsorten und -zeiten werden kurzfristig mitgeteilt.)\n\nProgram
 m\nDie Kolpingjugend Diözesanverband Münster wird zwei bewährte Veranst
 altungsformate bei Sternenklar anbieten. So gibt es die Möglichkeit\, sic
 h nochmal im Rahmen der malFREIzeit mit dem Thema Freiräume zu beschäfti
 gen. Außerdem werden sich Europäer_innen\, Christ_innen und Kolpinger_in
 nen innerhalb der Diskussionsrunde "Frag doch mal..." mit Themen befassen\
 , die junge Menschen bewegen. Das vollständige Programm zum Event findet 
 ihr auf http://www.sternenklar2018.de/programm/kalender/\nVerlosung\nUnter
  allen Ortsgruppen\, die sich mit mehr als zehn Personen anmelden\, verlos
 t die Kolpingjugend Diözesanverband Münster zudem zwei Tickets im Wert v
 on je 55\,00 Euro. Sofern ihr unter den beiden Ortsgruppen seid\, die bei 
 der Verlosung gewinnen\, bekommt ihr als Ortsgruppe also den Ticketpreis i
 n Höhe von 55\,00 Euro von uns überwiesen.\nAnmeldung und Teilnahmebedin
 gungen\nDie Anmeldung ist ab sofort mithilfe des Anmeldeformulars (Anmelde
 formular_Homepage) möglich. Zudem ist eine Gruppenanmeldung per Excellist
 e möglich (Formular Gruppenanmeldung_Homepage). Der neue Anmeldeschluss f
 ür das Fahrtangebot des Diözesanverbands Münster ist der 16.08.2018.\n\
 nEine Teilnahme ist ab 14 Jahren möglich. Minderjährige Teilnehmende mü
 ssen spätestens zur Veranstaltung eine ausgefüllte Einverständniserklä
 rung (s. Anmeldeformular) mitbringen.\nWeitere Informationen\nÜber das Ju
 gendreferat können Schüler_innen einen Antrag auf Beurlaubung für Freit
 ag\, 28. September 2018 beziehen. Meldet euch hierzu im Jugendreferat unte
 r 02541 / 803-474 oder spahlholz (a) kolping-ms.de. Meldet euch bei Fragen
  zum Thema Sonderurlaub bitte ebenfalls im Jugendreferat.\n\nBei allen Fra
 gen rund um "Sternenklar" könnt ihr euch per E-Mail unter info (at) kolpi
 ngjugend-ms.de oder telefonisch unter 02541 / 803-471 an das Jugendreferat
  wenden.
ATTACH;FMTTYPE=image/jpeg:https://kolpingjugend-ms.de/dat/Sternenklar_Schw
 arz.png
CATEGORIES:Großveranstaltungen,Verband
LOCATION:Frankfurt am Main\, Norbert-Wollheim-Platz 1\, 60323 Frankfurt am 
 Main\, Deutschland
GEO:50.12533819999999;8.666228100000012
X-APPLE-STRUCTURED-LOCATION;VALUE=URI;X-ADDRESS=Norbert-Wollheim-Platz 1\, 
 60323 Frankfurt am Main\, Deutschland;X-APPLE-RADIUS=100;X-TITLE=Frankfurt
  am Main:geo:50.12533819999999,8.666228100000012
END:VEVENT
BEGIN:VTIMEZONE
TZID:Europe/Berlin
X-LIC-LOCATION:Europe/Berlin
BEGIN:DAYLIGHT
DTSTART:20180325T030000
TZOFFSETFROM:+0100
TZOFFSETTO:+0200
TZNAME:CEST
END:DAYLIGHT
END:VTIMEZONE
END:VCALENDAR