BEGIN:VCALENDAR
VERSION:2.0
PRODID:-//wp-events-plugin.com//7.2.3.1//EN
TZID:Europe/Berlin
X-WR-TIMEZONE:Europe/Berlin
BEGIN:VEVENT
UID:176@kolpingjugend-ms.de
DTSTART;TZID=Europe/Berlin:20241108T000000
DTEND;TZID=Europe/Berlin:20241110T000000
DTSTAMP:20240131T102824Z
URL:https://kolpingjugend-ms.de/veranstaltungen/schnupperwochenende-3/
SUMMARY:Schnupperwochenende
DESCRIPTION:Was "macht Bock"? Jugendarbeit natürlich! Du möchtest auch ge
 rne Betreuer*in bei Dir  vor Ort im Ferienlager werden oder mal eine Grup
 penstunde übernehmen und bist zwischen 13 und 15 Jahren alt? Dann verbrin
 ge mit der Kolpingjugend vom 8.-10. November 2024 ein erlebnisreiches Woch
 enende auf der Jugendburg in Gemen\, bei dem Du einen ersten Einblick in d
 ie ehrenamtliche Kinder- und Jugendarbeit bekommst und die Möglichkeit ha
 st\, dich mit Teilnehmenden aus anderen Orten auszutauschen und zu erleben
 \, dass Jugendarbeit "Bock macht"!\n Nach Abschluss dieses Kurses erhalten
  die Jugendlichen eine Teilnahmebescheinigung\, die die Kursinhalte auflis
 tet.\nMögliche Inhalte\n\n 	gegenseitiges Kennenlernen\n 	Austausch über
  eigene Erfahrungen in der Kinder- und Jugendarbeit\n 	Motivation zur Kind
 er- und Jugendverbandsarbeit bzw. zur Gruppenleitung wecken\n 	künftiges 
 Rollen- und Selbstverständnis\n 	Leitung-sein ausprobieren\n 	die Kolping
 jugend Diözesanverband Münster\n 	Chancen und Möglichkeiten kirchlicher
  Kinder- und Jugendarbeit\n 	Spiele selber ausprobieren\n\nMit viel Spiel 
 und Spaß werden die Teilnehmerinnen und Teilnehmer auf die bevorstehende 
 Leitungsrolle vorbereitet und sie haben die Möglichkeit in der Gruppe zu 
 erleben\, dass Kinder- und Jugendarbeit "Bock macht"!\nVoraussetzungen\n\n
  	zwischen 13 und 15 Jahren\n 	Interesse an der Kinder- und Jugendarbeit\n
 \nTermin\n\n 	8.-10. November 2024 auf der Jugendburg Gemen\n\nKosten\n\n 
 	25 Euro für Kolping-Mitglieder\n 	30 Euro für Nicht-Mitglieder\n\nAnfra
 ge\, Terminvereinbarung &amp\; Anmeldung (bitte digital ausfüllen)\n\n 	A
 nmeldung (bitte downloaden und digital ausfüllen):Anmeldeformular_Schnupp
 erkurs_November_2024\n 	per Kontakt- &amp\; Anmeldeformular oder\n 	telefo
 nisch unter 02541 / 803-471 oder\n 	per E-Mail an info@kolpingjugend-ms.de
 .\n
CATEGORIES:Verband
LOCATION:Jugendburg Gemen\, Schlossplatz 1\, Borken-Gemen\, 46325\, Deutsch
 land
GEO:51.8627616;6.866735899999981
X-APPLE-STRUCTURED-LOCATION;VALUE=URI;X-ADDRESS=Schlossplatz 1\, Borken-Gem
 en\, 46325\, Deutschland;X-APPLE-RADIUS=100;X-TITLE=Jugendburg Gemen:geo:5
 1.8627616,6.866735899999981
END:VEVENT
BEGIN:VTIMEZONE
TZID:Europe/Berlin
X-LIC-LOCATION:Europe/Berlin
BEGIN:STANDARD
DTSTART:20241027T020000
TZOFFSETFROM:+0200
TZOFFSETTO:+0100
TZNAME:CET
END:STANDARD
END:VTIMEZONE
END:VCALENDAR