BEGIN:VCALENDAR
VERSION:2.0
PRODID:-//wp-events-plugin.com//7.2.3.1//EN
TZID:Europe/Berlin
X-WR-TIMEZONE:Europe/Berlin
BEGIN:VEVENT
UID:98@kolpingjugend-ms.de
DTSTART;TZID=Europe/Berlin;VALUE=DATE:20181109
DTEND;TZID=Europe/Berlin;VALUE=DATE:20181112
DTSTAMP:20180719T093839Z
URL:https://kolpingjugend-ms.de/veranstaltungen/schnupper-wochenende/
SUMMARY:Schnupper-Wochenende
DESCRIPTION:Was "macht Bock"? Jugendarbeit natürlich! Du möchtest auch ge
 rne Betreuer_in bei Dir  vor Ort im Ferienlager werden oder mal eine Grup
 penstunde übernehmen und bist zwischen 13 und 15 Jahren alt? Dann verbrin
 ge mit der Kolpingjugend vom 09.-11. Novemver 2018 ein erlebnisreiches Woc
 henende auf der Jugendburg in Gemen\, bei dem Du einen ersten Einblick in 
 die ehrenamtliche Kinder- und Jugendarbeit bekommst und die Möglichkeit h
 ast\, dich mit Teilnehmenden aus anderen Orten auszutauschen und zu erlebe
 n\, dass Jugendarbeit "Bock macht"!\n Nach Abschluss dieses Kurses erhalte
 n die Jugendlichen eine Teilnahmebescheinigung\, die die Kursinhalte aufli
 stet.\nMögliche Inhalte\n\n 	gegenseitiges Kennenlernen\n 	Austausch übe
 r eigene Erfahrungen in der Kinder- und Jugendarbeit\n 	Motivation zur Kin
 der- und Jugendverbandsarbeit bzw. zur Gruppenleitung wecken\n 	künftiges
  Rollen- und Selbstverständnis\n 	Leitung-sein ausprobieren\n 	die Kolpin
 gjugend Diözesanverband Münster\n 	Chancen und Möglichkeiten kirchliche
 r Kinder- und Jugendarbeit\n 	Spiele selber ausprobieren\n\nMit viel Spiel
  und Spaß werden die Teilnehmerinnen und Teilnehmer auf die bevorstehende
  Leitungsrolle vorbereitet und sie haben die Möglichkeit in der Gruppe zu
  erleben\, dass Kinder- und Jugendarbeit "Bock macht"!\nVoraussetzungen\n\
 n 	zwischen 13 und 15 Jahren\n 	Interesse an der Kinder- und Jugendarbeit\
 n\nTermin\n\n 	09. bis 11. November auf der Jugendburg in Gemen\n\nKosten\
 n\n 	25 Euro für Kolping-Mitglieder\n 	30 Euro für Nicht-Mitglieder\n\nA
 nfrage\, Terminvereinbarung &amp\; Anmeldung\n\n 	Download Anmeldeformular
  als PDF\n 	per Kontakt- &amp\; Anmeldeformular oder\n 	telefonisch unter 
 02541 / 803-471 oder\n 	per E-Mail an info@kolpingjugend-ms.de.\n
LOCATION:Jugendburg Gemen\, Schlossplatz 1\, Borken-Gemen\, 46325\, Deutsch
 land
GEO:51.8627616;6.866735899999981
X-APPLE-STRUCTURED-LOCATION;VALUE=URI;X-ADDRESS=Schlossplatz 1\, Borken-Gem
 en\, 46325\, Deutschland;X-APPLE-RADIUS=100;X-TITLE=Jugendburg Gemen:geo:5
 1.8627616,6.866735899999981
END:VEVENT
BEGIN:VTIMEZONE
TZID:Europe/Berlin
X-LIC-LOCATION:Europe/Berlin
BEGIN:STANDARD
DTSTART:20181028T020000
TZOFFSETFROM:+0200
TZOFFSETTO:+0100
TZNAME:CET
END:STANDARD
END:VTIMEZONE
END:VCALENDAR