BEGIN:VCALENDAR
VERSION:2.0
PRODID:-//wp-events-plugin.com//7.2.3.1//EN
TZID:Europe/Berlin
X-WR-TIMEZONE:Europe/Berlin
BEGIN:VEVENT
UID:99@kolpingjugend-ms.de
DTSTART;TZID=Europe/Berlin;VALUE=DATE:20180509
DTEND;TZID=Europe/Berlin;VALUE=DATE:20180514
DTSTAMP:20180413T080649Z
URL:https://kolpingjugend-ms.de/veranstaltungen/kt18-katholikentag-in-muen
 ster/
SUMMARY:#kt18 - Katholikentag in Münster
DESCRIPTION:Das Motto "Suche Frieden" wird den 101. Katholikentag und die S
 tadt Münster als Stadt des Westfälischen Friedens vom 9. bis 13. Mai 201
 8 (Christi Himmelfahrt) bestimmen. Um ganz Deutschland und den Rest der We
 lt an den Friedensbotschaften auf dem Katholikentag teilhaben zu lassen\, 
 wird die Kolpingjugend auf den Social Media-Kanälen unter dem #kt18 alle 
 Eindrücke zum Katholikentag teilen. Macht gerne mit und postet eure Highl
 ights auf Instagram\, Facebook und Twitter.\nProgramm\nDie Kolpingjugend D
 iözesanverband Münster wird auf dem Katholikentag mit folgenden Veransta
 ltungen und Aktionen vertreten sein:\n\n 	Abendcafé zum Thema "Nur Unzufr
 iedenheit und Unfriede"\n\nBeim diesem gemütlichen Abendcafé wird über 
 das Verhältnis von Jugend und Kirche diskutiert. Es handelt sich um eine 
 Veranstaltung des Projektarbeitskreises (PAK) Jugend ohne Kirche - Kirche 
 ohne Jugend. Diskutieren werden Michael Franke (Diözesanjugendseelsorger\
 , Osnabrück)\, Daniel Gewand (Projektleiter frei.raum\, Coesfeld) und Dr.
  Jan Loffeld (Pastoraltheologe\, Mainz). Freigetränke und ein Snack werde
 n gestellt.\nDie Veranstaltung findet am Donnerstag\, 10.05.2018 von 20:00
  bis 21:30 Uhr im Klamm &amp\; Heinrich (ehemals Alter Pulverturm\, Breul 
 9\, 48143 Münster) statt.\n\n\n 	Generationspicknick "Frieden geht durch 
 den Magen - ein Generationspicknick. Wir bringen Generationen in den Dialo
 g"\n\n\nJung und Alt tauschen sich beim Generationspicknick zu Themen wie 
 Wünsche\, Glaube\, Freunde\, Familie\, Musik und Friede aus. Ein Picknick
 korb mit Snacks und Getränken wird gestellt. Durchgeführt wird das Pickn
 ick vom PAK Katholikentag der Kolpingjugend.\nDas Picknick findet am Freit
 ag\, 11.05.2018 von 12:00 bis 14:00 Uhr auf der Wiese zwischen Aasee und L
 BS statt.\n\n\n 	Bungee Run und Spider Web - "Frieden bewegt!" \n\nAls Dau
 erangebote stehen von Donnerstag\, 10.05.2018 bis Samstag\, 12.05.2018 der
  Bungee Run und die Spider Web-Wand im Zentrum Jugend auf der Promenade in
  Höhe des Zwingers (ganz in der Nähe des Adolph-Kolping-Berufskollegs) b
 ereit.\nDes Weiteren findet am Samstag\, 12.05.2018 nachmittags ein Festak
 t mit der Übergabe der Friedensbotschaften im Friedenssaal des Münsteran
 er Rathauses statt.\n\nUm Kolping auf dem Katholikentag nochmal besonders 
 in den Blick zu nehmen\, wird am Samstag\, 12.05.2018 ab 18:30 Uhr ein Kol
 ping-Gottesdienst zum Thema "...ohne Gott kein Frieden und kein Glück" i
 n der Erpho-Kirche mit Bundespräses Josef Holtkotte gefeiert. Anschließe
 nd findet als Meet and Greet ein Abend der Begegnung für alle Kolpinger_i
 nnen statt.\n\nAußerdem wird am Samstag\, 12.05.2018 ab 18:30 Uhr im Jove
 l die BDKJ-Party starten.\n\nAlle Kolping-Veranstaltungen auf dem Katholik
 entag sind im folgenden Flyer zusammengefasst: Flyer Katholikentag\n\nDas 
 Gesamtprogramm des 101. Katholikentags kann online unter https://www.katho
 likentag.de/programm/programm_2018.html heruntergeladen werden. Zudem gibt
  es auch eine App zum Katholikentag: http://katholikentag.de/app\nTickets 
 für Studierende und Schüler_innen aus Münster\nStudierende an Münstera
 ner Hochschulen sowie Schüler_innen an Münsteraner Schulen können für 
 15 Euro Tickets bei der Geschäftsstelle des Katholikentags (Breul 23\, 48
 143 Münster) erwerben.\nHelfer_innen gesucht\nDie Kolpingjugend Diözesan
 verband Münster freut sich über tatkräftige Unterstützung beim Katholi
 kentag. Bitte meldet euch hierzu im Jugendreferat unter 02541 / 803-474 od
 er spahlholz(a)kolping-ms.de.\nWeitere Informationen\nBei Fragen rund um d
 ie Veranstaltungen der Kolpingjugend auf dem Katholikentag hilft euch das 
 Jugendreferat gerne weiter: 02541 / 803-474 oder spahlholz(a)kolping-ms.de
 .
CATEGORIES:Großveranstaltungen
END:VEVENT
BEGIN:VTIMEZONE
TZID:Europe/Berlin
X-LIC-LOCATION:Europe/Berlin
BEGIN:DAYLIGHT
DTSTART:20180325T030000
TZOFFSETFROM:+0100
TZOFFSETTO:+0200
TZNAME:CEST
END:DAYLIGHT
END:VTIMEZONE
END:VCALENDAR