BEGIN:VCALENDAR
VERSION:2.0
PRODID:-//wp-events-plugin.com//7.2.3.1//EN
TZID:Europe/Berlin
X-WR-TIMEZONE:Europe/Berlin
BEGIN:VEVENT
UID:169@kolpingjugend-ms.de
DTSTART;TZID=Europe/Berlin;VALUE=DATE:20230902
DTEND;TZID=Europe/Berlin;VALUE=DATE:20230903
DTSTAMP:20230728T100004Z
URL:https://kolpingjugend-ms.de/veranstaltungen/kolpingtag-2023-wir-kt/
SUMMARY:Kolpingtag 2023 - Wir.kt
DESCRIPTION:Am 02.09.2023 ist großer Kolpingtag in Münster.\n\nAlle Infos
  findest du hier: Wir.kt – Kolpingtag 2023 – Kolpingjugend Diözesanve
 rband Münster (kolpingjugend-ms.de)
CATEGORIES:Verband
LOCATION:https://www.google.de/maps/place/Liebfrauen-%C3%9Cberwasserkirche/
 @51.9642046,7.6221427,19.52z/data=!4m6!3m5!1s0x47b9bac18fcd7f27:0xac76cd75
 cc220851!8m2!3d51.9641789!4d7.6228355!16s%2Fg%2F120mbhjc?entry=ttu
END:VEVENT
BEGIN:VTIMEZONE
TZID:Europe/Berlin
X-LIC-LOCATION:Europe/Berlin
BEGIN:DAYLIGHT
DTSTART:20230326T030000
TZOFFSETFROM:+0100
TZOFFSETTO:+0200
TZNAME:CEST
END:DAYLIGHT
END:VTIMEZONE
END:VCALENDAR