BEGIN:VCALENDAR
VERSION:2.0
PRODID:-//wp-events-plugin.com//7.2.3.1//EN
TZID:Europe/Berlin
X-WR-TIMEZONE:Europe/Berlin
BEGIN:VEVENT
UID:170@kolpingjugend-ms.de
DTSTART;TZID=Europe/Berlin:20230826T100000
DTEND;TZID=Europe/Berlin:20230826T180000
DTSTAMP:20230728T101157Z
URL:https://kolpingjugend-ms.de/veranstaltungen/kolpingjugend-goes-csd-202
 3/
SUMMARY:Kolpingjugend goes CSD 2023
DESCRIPTION:Die Kolpingjugend ist beim Christopher-Street-Day 2023 in Müns
 ter dabei.\n\nNeben der Teilnahme an der Demo\, werden wir gemeinsam Früh
 stücken\, Plakate basteln und gemeinsam mit einem Referenten zum Thema CS
 D und Vielfalt arbeiten.\n\nAlle weiteren Infos findest du hier: Kolpingju
 gend goes CSD Münster – Kolpingjugend Diözesanverband Münster (kolpin
 gjugend-ms.de)
CATEGORIES:Verband
LOCATION:https://www.google.de/maps/place/Schillerstra%C3%9Fe+44b,+48155+M%
 C3%BCnster/@51.9563523,7.6396263,19z/data=!3m1!4b1!4m6!3m5!1s0x47b9bad867a
 94a15:0x7491d8e4682160e3!8m2!3d51.9563523!4d7.64027!16s%2Fg%2F11dfj2w2ss?e
 ntry=ttu
END:VEVENT
BEGIN:VTIMEZONE
TZID:Europe/Berlin
X-LIC-LOCATION:Europe/Berlin
BEGIN:DAYLIGHT
DTSTART:20230326T030000
TZOFFSETFROM:+0100
TZOFFSETTO:+0200
TZNAME:CEST
END:DAYLIGHT
END:VTIMEZONE
END:VCALENDAR