BEGIN:VCALENDAR
VERSION:2.0
PRODID:-//wp-events-plugin.com//7.2.3.1//EN
TZID:Europe/Berlin
X-WR-TIMEZONE:Europe/Berlin
BEGIN:VEVENT
UID:102@kolpingjugend-ms.de
DTSTART;TZID=Europe/Berlin:20181117T090000
DTEND;TZID=Europe/Berlin:20181117T180000
DTSTAMP:20180719T100742Z
URL:https://kolpingjugend-ms.de/veranstaltungen/juleica-update/
SUMMARY:JuLeiCa-Update
DESCRIPTION:Deine JuLeiCa läuft ab? Kein Problem! Mit diesem Kurs und der 
 Auffrischung wesentlicher Inhalte aus dem Gruppenleitergrundkurs kannst Du
  sie problemlos verlängern.\nMögliche Inhalte\n\n 	Lebenssituationen und
  Entwicklung von Kindern und Jugendlichen\n 	Gruppenphasen und -prozesse\n
  	rechtliche Grundlagen\n 	Prävention gegen sexualisierte Gewalt\n\nKoste
 n\n\n 	Tagesveranstaltung (8 Stunden Zeit\, 8 Teilnehmende):\n10 Euro fü
 r Kolping-Mitglieder\n15 Euro für Nicht-Mitglieder\n\nTermin:\n\n 	17.11.
 2018\, 09.00 - 18:00 Uhr in Münster\n\nAnfrage\, Terminvereinbarung &amp\
 ; Anmeldung\n\n 	Download Anmeldeformular als PDF\n 	per Kontakt- &amp\; A
 nmeldeformular oder\n 	telefonisch unter 02541 / 803-471 oder\n 	per E-Mai
 l an info@kolpingjugend-ms.de.\n
ATTACH;FMTTYPE=image/jpeg:https://kolpingjugend-ms.de/dat/IMG_2202-Homepag
 e-Update.jpg
CATEGORIES:Kurse
LOCATION:KOLPING im Haus der Verbände\, Schillerstraße 44a\, Münster\, N
 RW\, 48155\, Deutschland
GEO:51.9562693;7.640570700000012
X-APPLE-STRUCTURED-LOCATION;VALUE=URI;X-ADDRESS=Schillerstraße 44a\, Müns
 ter\, NRW\, 48155\, Deutschland;X-APPLE-RADIUS=100;X-TITLE=KOLPING im Haus
  der Verbände:geo:51.9562693,7.640570700000012
END:VEVENT
BEGIN:VTIMEZONE
TZID:Europe/Berlin
X-LIC-LOCATION:Europe/Berlin
BEGIN:STANDARD
DTSTART:20181028T020000
TZOFFSETFROM:+0200
TZOFFSETTO:+0100
TZNAME:CET
END:STANDARD
END:VTIMEZONE
END:VCALENDAR