BEGIN:VCALENDAR
VERSION:2.0
PRODID:-//wp-events-plugin.com//7.2.3.1//EN
TZID:Europe/Berlin
X-WR-TIMEZONE:Europe/Berlin
BEGIN:VEVENT
UID:174@kolpingjugend-ms.de
DTSTART;TZID=Europe/Berlin;VALUE=DATE:20240402
DTEND;TZID=Europe/Berlin;VALUE=DATE:20240407
DTSTAMP:20240131T103006Z
URL:https://kolpingjugend-ms.de/veranstaltungen/gruppenleitungsgrundkurs-o
 ster/
SUMMARY:Gruppenleitungsgrundkurs Ostern
DESCRIPTION:Du bist mindestens 16 Jahre alt und hast Interesse an der Arbei
 t als ehrenamtlicher Gruppenleiter*in? Dann ist der Gruppenleitungsgrundku
 rs genau das Richtige für Dich! In einem Kurs über 5 Tage werden die jun
 gen Gruppenleiter*innen für verantwortungsvolle Aufgaben in der Kinder- u
 nd Jugendarbeit fit gemacht. Dieser Kurs bietet die Möglichkeit\, Jugendl
 iche aus anderen Ortsgruppen kennenzulernen\, gemeinsam Spaß zu haben\, s
 ich mit ihnen über besondere Aktionen aus ihrer Heimat auszutauschen und 
 voneinander zu lernen. \nMÖGLICHE INHALTE\n\nLeitungsstile und Rollenver
 ständnis\nKonflikte und Lösungsstrategien\nrechtliche Grundlagen\nEntwic
 klung von Kindern und Jugendlichen\nMöglichkeiten zur Beteiligung im Verb
 and\nGrundlagen der Spielepädagogik\nPrävention von sexualisierter Gewal
 t\n\nDer Grundkurs legt den Grundstein für verantwortungsvolles Gruppenle
 iten. Am Ende des Kurses bekommt jede*r Teilnehmende eine Bescheinigung\, 
 mit der sie*er (zusammen mit der Teilnahme an einem Erste-Hilfe-Kurs und d
 em Nachweis von ehrenamtlichem Engagement) die Jugendleiter-Card (JuleiCa)
  beantragen kann.\nVORAUSSETZUNGEN\n\nMindestalter ist 16 Jahre\n\nTermine
 \n\n2.-6. April 2024\, Jugendhaus Mariannhill\n14.-18. Oktober 2024\, Juge
 ndburg Gemen\n\n
CATEGORIES:Verband
LOCATION:Jugendhaus Mariannhill\, Am Kloster 9\, 48734 Reken\, Deutschland
GEO:51.835086;7.0969691999999895
X-APPLE-STRUCTURED-LOCATION;VALUE=URI;X-ADDRESS=Am Kloster 9\, 48734 Reken\
 , Deutschland;X-APPLE-RADIUS=100;X-TITLE=Jugendhaus Mariannhill:geo:51.835
 086,7.0969691999999895
END:VEVENT
BEGIN:VTIMEZONE
TZID:Europe/Berlin
X-LIC-LOCATION:Europe/Berlin
BEGIN:DAYLIGHT
DTSTART:20240331T030000
TZOFFSETFROM:+0100
TZOFFSETTO:+0200
TZNAME:CEST
END:DAYLIGHT
END:VTIMEZONE
END:VCALENDAR