BEGIN:VCALENDAR
VERSION:2.0
PRODID:-//wp-events-plugin.com//7.2.3.1//EN
TZID:Europe/Berlin
X-WR-TIMEZONE:Europe/Berlin
BEGIN:VEVENT
UID:175@kolpingjugend-ms.de
DTSTART;TZID=Europe/Berlin:20241014T000000
DTEND;TZID=Europe/Berlin:20241018T000000
DTSTAMP:20240131T103033Z
URL:https://kolpingjugend-ms.de/veranstaltungen/gruppenleitungsgrundkurs-h
 erbst/
SUMMARY:Gruppenleitungsgrundkurs Herbst
DESCRIPTION:Du bist mindestens 16 Jahre alt und hast Interesse an der Arbei
 t als ehrenamtlicher Gruppenleiter*in? Dann ist der Gruppenleitungsgrundku
 rs genau das Richtige für Dich! In einem Kurs über 5 Tage werden die jun
 gen Gruppenleiter*innen für verantwortungsvolle Aufgaben in der Kinder- u
 nd Jugendarbeit fit gemacht. Dieser Kurs bietet die Möglichkeit\, Jugendl
 iche aus anderen Ortsgruppen kennenzulernen\, gemeinsam Spaß zu haben\, s
 ich mit ihnen über besondere Aktionen aus ihrer Heimat auszutauschen und 
 voneinander zu lernen. \nMÖGLICHE INHALTE\n\nLeitungsstile und Rollenver
 ständnis\nKonflikte und Lösungsstrategien\nrechtliche Grundlagen\nEntwic
 klung von Kindern und Jugendlichen\nMöglichkeiten zur Beteiligung im Verb
 and\nGrundlagen der Spielepädagogik\nPrävention von sexualisierter Gewal
 t\n\nDer Grundkurs legt den Grundstein für verantwortungsvolles Gruppenle
 iten. Am Ende des Kurses bekommt jede*r Teilnehmende eine Bescheinigung\, 
 mit der sie*er (zusammen mit der Teilnahme an einem Erste-Hilfe-Kurs und d
 em Nachweis von ehrenamtlichem Engagement) die Jugendleiter-Card (JuleiCa)
  beantragen kann.\nVORAUSSETZUNGEN\n\nMindestalter ist 16 Jahre\n\nTermine
 \n\n2.-6. April 2024\, Jugendhaus Mariannhil\n14.-18. Oktober 2024\, Jugen
 dburg Gemen\n\n
CATEGORIES:Verband
LOCATION:Jugendburg Gemen\, Schlossplatz 1\, Borken-Gemen\, 46325\, Deutsch
 land
GEO:51.8627616;6.866735899999981
X-APPLE-STRUCTURED-LOCATION;VALUE=URI;X-ADDRESS=Schlossplatz 1\, Borken-Gem
 en\, 46325\, Deutschland;X-APPLE-RADIUS=100;X-TITLE=Jugendburg Gemen:geo:5
 1.8627616,6.866735899999981
END:VEVENT
BEGIN:VTIMEZONE
TZID:Europe/Berlin
X-LIC-LOCATION:Europe/Berlin
BEGIN:DAYLIGHT
DTSTART:20240331T030000
TZOFFSETFROM:+0100
TZOFFSETTO:+0200
TZNAME:CEST
END:DAYLIGHT
END:VTIMEZONE
END:VCALENDAR