BEGIN:VCALENDAR
VERSION:2.0
PRODID:-//wp-events-plugin.com//7.2.3.1//EN
TZID:Europe/Berlin
X-WR-TIMEZONE:Europe/Berlin
BEGIN:VEVENT
UID:97@kolpingjugend-ms.de
DTSTART;TZID=Europe/Berlin;VALUE=DATE:20181015
DTEND;TZID=Europe/Berlin;VALUE=DATE:20181020
DTSTAMP:20180719T100831Z
URL:https://kolpingjugend-ms.de/veranstaltungen/gruppenleitungsgrundkurs-5
 /
SUMMARY:Gruppenleitungsgrundkurs
DESCRIPTION:Du bist mindestens 16 Jahre alt und hast Interesse an der Arbei
 t als ehrenamtlicher Gruppenleiter? Dann ist der Gruppenleitergrundkurs ge
 nau das Richtige für Dich!\n In einem Kurs über 5 Tage werden die jungen
  Gruppenleiter_innen für verantwortungsvolle Aufgaben in der Kinder- und 
 Jugendarbeit fit gemacht.\n Dieser Kurs bietet die Möglichkeit\, Jugendli
 che aus anderen Ortsgruppen kennenzulernen\, gemeinsam Spaß zu haben\, si
 ch mit ihnen über besondere Aktionen aus ihrer Heimat auszutauschen und v
 oneinander zu lernen.\nMÖGLICHE INHALTE\n\n 	Leitungsstile und Rollenvers
 tändnis\n 	Konflikte und Lösungsstrategien\n 	rechtliche Grundlagen\n 	E
 ntwicklung von Kindern und Jugendlichen\n 	Möglichkeiten zur Beteiligung 
 im Verband\n 	Grundlagen der Spielepädagogik\n 	Prävention von sexualisi
 erter Gewalt\n\nDer Grundkurs legt den Grundstein für einen verantwortung
 svollen Gruppenleiter. Am Ende des Kurses bekommt jeder Teilnehmende eine 
 Bescheinigung\, mit der er (zusammen mit der Teilnahme an einem Erste-Hilf
 e-Kurs und dem Nachweis von ehrenamtlichem Engagement) die Jugendleiter-Ca
 rd (JuleiCa) beantragen kann.\nVORAUSSETZUNGEN\n\n 	Mindestalter ist 16 Ja
 hre\n\nTermine\n\n 	15.-19.10.2018 in der Kolping-Bildungsstätte in Coesf
 eld\n\nKosten\n\n 	70 Euro für Kolping-Mitglieder\n 	80 Euro für Nicht-M
 itglieder\n\nAnfrage\, Terminvereinbarung &amp\; Anmeldung\n\n 	Download A
 nmeldeformular als PDF\n 	per Kontakt- &amp\; Anmeldeformular oder\n 	tele
 fonisch unter 02541 / 803-471 oder\n 	per E-Mail an info@kolpingjugend-ms.
 de.\n
ATTACH;FMTTYPE=image/jpeg:https://kolpingjugend-ms.de/dat/grundkurs.jpg
CATEGORIES:Kurse
LOCATION:Kolping-Bildungsstätte Coesfeld\, Gerlever Weg 1\, Coesfeld\, NRW
 \, 48653\, Deutschland
GEO:51.9423;7.1798
X-APPLE-STRUCTURED-LOCATION;VALUE=URI;X-ADDRESS=Gerlever Weg 1\, Coesfeld\,
  NRW\, 48653\, Deutschland;X-APPLE-RADIUS=100;X-TITLE=Kolping-Bildungsstä
 tte Coesfeld:geo:51.9423,7.1798
END:VEVENT
BEGIN:VTIMEZONE
TZID:Europe/Berlin
X-LIC-LOCATION:Europe/Berlin
BEGIN:DAYLIGHT
DTSTART:20180325T030000
TZOFFSETFROM:+0100
TZOFFSETTO:+0200
TZNAME:CEST
END:DAYLIGHT
END:VTIMEZONE
END:VCALENDAR