BEGIN:VCALENDAR
VERSION:2.0
PRODID:-//wp-events-plugin.com//7.2.3.1//EN
TZID:Europe/Berlin
X-WR-TIMEZONE:Europe/Berlin
BEGIN:VEVENT
UID:108@kolpingjugend-ms.de
DTSTART;TZID=Europe/Berlin;VALUE=DATE:20190423
DTEND;TZID=Europe/Berlin;VALUE=DATE:20190428
DTSTAMP:20190226T075340Z
URL:https://kolpingjugend-ms.de/veranstaltungen/grundkurs/
SUMMARY:Grundkurs
DESCRIPTION:\n\nDu bist mindestens 16 Jahre alt und hast Interesse an der A
 rbeit als ehrenamtlicher Gruppenleiter? Dann ist der Gruppenleitergrundkur
 s genau das Richtige für Dich!\n In einem Kurs über 5 Tage werden die ju
 ngen Gruppenleiter_innen für verantwortungsvolle Aufgaben in der Kinder- 
 und Jugendarbeit fit gemacht.\n Dieser Kurs bietet die Möglichkeit\, Juge
 ndliche aus anderen Ortsgruppen kennenzulernen\, gemeinsam Spaß zu haben\
 , sich mit ihnen über besondere Aktionen aus ihrer Heimat auszutauschen u
 nd voneinander zu lernen.\nMÖGLICHE INHALTE\n\n 	Leitungsstile und Rollen
 verständnis\n 	Konflikte und Lösungsstrategien\n 	rechtliche Grundlagen\
 n 	Entwicklung von Kindern und Jugendlichen\n 	Möglichkeiten zur Beteilig
 ung im Verband\n 	Grundlagen der Spielepädagogik\n 	Prävention von sexua
 lisierter Gewalt\n\nDer Grundkurs legt den Grundstein für einen verantwor
 tungsvollen Gruppenleiter. Am Ende des Kurses bekommt jeder Teilnehmende e
 ine Bescheinigung\, mit der er (zusammen mit der Teilnahme an einem Erste-
 Hilfe-Kurs und dem Nachweis von ehrenamtlichem Engagement) die Jugendleite
 r-Card (JuleiCa) beantragen kann.\nVORAUSSETZUNGEN\n\n 	Mindestalter ist 1
 6 Jahre\n\nTermine\n\n 	23.-27. April 2019 im Jugendhaus Mariannhill in Re
 ken Ausgebucht!\n\nKOSTEN\n\n 	70 Euro für Kolping-Mitglieder\n 	80 Euro 
 für Nicht-Mitglieder\n\nAnfrage\, Terminvereinbarung &amp\; Anmeldung\n\n
  	Download Anmeldeformular als PDF\n 	per Kontakt- &amp\; Anmeldeformular 
 oder\n 	telefonisch unter 02541 / 803-471 oder\n 	per E-Mail an info@kolpi
 ngjugend-ms.de.\n\n
ATTACH;FMTTYPE=image/jpeg:https://kolpingjugend-ms.de/dat/PHOTO-2018-10-26
 -13-20-14hp.jpg
CATEGORIES:Kurse
LOCATION:Jugendhaus Mariannhill\, Am Kloster 9\, 48734 Reken\, Deutschland
GEO:51.835086;7.0969691999999895
X-APPLE-STRUCTURED-LOCATION;VALUE=URI;X-ADDRESS=Am Kloster 9\, 48734 Reken\
 , Deutschland;X-APPLE-RADIUS=100;X-TITLE=Jugendhaus Mariannhill:geo:51.835
 086,7.0969691999999895
END:VEVENT
BEGIN:VTIMEZONE
TZID:Europe/Berlin
X-LIC-LOCATION:Europe/Berlin
BEGIN:DAYLIGHT
DTSTART:20190331T030000
TZOFFSETFROM:+0100
TZOFFSETTO:+0200
TZNAME:CEST
END:DAYLIGHT
END:VTIMEZONE
END:VCALENDAR