BEGIN:VCALENDAR
VERSION:2.0
PRODID:-//wp-events-plugin.com//7.2.3.1//EN
TZID:Europe/Berlin
X-WR-TIMEZONE:Europe/Berlin
BEGIN:VEVENT
UID:106@kolpingjugend-ms.de
DTSTART;TZID=Europe/Berlin:20190518T100000
DTEND;TZID=Europe/Berlin:20190518T170000
DTSTAMP:20190507T074130Z
URL:https://kolpingjugend-ms.de/veranstaltungen/gib8-praeventionsschulung-
 5/
SUMMARY:gib8! - Präventionsschulung
DESCRIPTION:Sensibilisierung  –  Reflexion  -  Nähe  und  Distanz
   –  Handlungswege  –  Zahlen und  Fakten  –  rechtliche  Be
 stimmungen  –  Täter_innen-  und  Opferverhalten  – Handlungssic
 herheit – präventive Haltung\nDiese Schlagwörter umschreiben unsere gi
 b8! Schulungen\, in denen wir uns sehr praxisnah  dem  Thema  Präventi
 on  von  sexualisierter  Gewalt  widmen.  Ziel  dieser  (vom Bistum
   Münster  anerkannten)  Schulungen  ist  die  Sensibilisierung  f
 ür  das  Thema sexualisierte Gewalt in der Kinder- und Jugendarbeit\, S
 ituationen besser einschätzen zu können und Handlungssicherheit zu gewin
 nen.\n\nSCHULUNGSANGEBOTE\nBasisschulung  (sechs  Stunden  und  mind.
   zehn  Teilnehmende):  für  alle Betreuerinnen und Betreuer in der K
 inder- und Jugendarbeit.\n\nAuffrischungsschulung   (mind.    drei 
    Stunden    und    mind.    zehn    Teilnehmende): Wenn eu
 re Präventionsschulung schon eine Weile her ist\, dann ist die   Auffri
 schung genau das Richtige! Wir füllen die Gedächtnislücken wieder und b
 ringen euch die Änderungen aus der neuen Präventionsordnung (Mai 2014) m
 it.\n\nVertiefungsschulung (mind.  drei  Stunden  und  mind.  zehn  
 Teilnehmende):  Interesse  an weiteren Inhalten? Die Vertiefung bietet e
 uch einen erweiterten Einblick in das Thema sexualisierte Gewalt und gibt 
 Anregungen zur Reflexion des eigenen Handelns.\nVORAUSSETZUNGEN\n\n 	je na
 ch Angebot mind. 3 oder 6 Stunden Zeit und 10 Teilnehmende\n 	Termine und
  Ort werden mit dem Jugendreferat vereinbart.\n\nOFFENE TERMINE\n\n 	Basis
 schulung: 09. Februar 2019\, 10:00 bis 17:00 Uhr in Coesfeld\n\n 	18. Mai 
 2019\, 10:00 bis 17:00 Uhr in Coesfeld Ausgebucht!\n 	12. Oktober 2019\, 1
 0:00 bis 17:00 Uhr in Coesfeld\n\n\n\nKOSTEN\n\n 	Die Teilnahme ist kosten
 frei.\n\nAnfrage\, Terminvereinbarung &amp\; Anmeldung\n\n 	Download Anmel
 deformular als PDF\n 	per Kontakt- und Anmeldeformular oder\n 	telefonisch
  unter 02541 / 803-471 oder\n 	per E-Mail an info@kolpingjugend-ms.de.\n
ATTACH;FMTTYPE=image/jpeg:https://kolpingjugend-ms.de/dat/gib8.jpg
CATEGORIES:gib8! - Schulungen zur Prävention sexueller Gewalt
LOCATION:Diözesangeschäftsstelle\, Gerlever Weg 1\, Coesfeld\, NRW\, 4865
 3\, Deutschland
GEO:51.9423;7.1798
X-APPLE-STRUCTURED-LOCATION;VALUE=URI;X-ADDRESS=Gerlever Weg 1\, Coesfeld\,
  NRW\, 48653\, Deutschland;X-APPLE-RADIUS=100;X-TITLE=Diözesangeschäftss
 telle:geo:51.9423,7.1798
END:VEVENT
BEGIN:VTIMEZONE
TZID:Europe/Berlin
X-LIC-LOCATION:Europe/Berlin
BEGIN:DAYLIGHT
DTSTART:20190331T030000
TZOFFSETFROM:+0100
TZOFFSETTO:+0200
TZNAME:CEST
END:DAYLIGHT
END:VTIMEZONE
END:VCALENDAR